BEGIN:VCALENDAR
VERSION:2.0
PRODID:-//Threefold Educational Foundation | Chestnut Ridge NY - ECPv6.15.18//NONSGML v1.0//EN
CALSCALE:GREGORIAN
METHOD:PUBLISH
X-ORIGINAL-URL:https://threefold.org
X-WR-CALDESC:Events for Threefold Educational Foundation | Chestnut Ridge NY
REFRESH-INTERVAL;VALUE=DURATION:PT1H
X-Robots-Tag:noindex
X-PUBLISHED-TTL:PT1H
BEGIN:VTIMEZONE
TZID:America/New_York
BEGIN:DAYLIGHT
TZOFFSETFROM:-0500
TZOFFSETTO:-0400
TZNAME:EDT
DTSTART:20230312T070000
END:DAYLIGHT
BEGIN:STANDARD
TZOFFSETFROM:-0400
TZOFFSETTO:-0500
TZNAME:EST
DTSTART:20231105T060000
END:STANDARD
BEGIN:DAYLIGHT
TZOFFSETFROM:-0500
TZOFFSETTO:-0400
TZNAME:EDT
DTSTART:20240310T070000
END:DAYLIGHT
BEGIN:STANDARD
TZOFFSETFROM:-0400
TZOFFSETTO:-0500
TZNAME:EST
DTSTART:20241103T060000
END:STANDARD
BEGIN:DAYLIGHT
TZOFFSETFROM:-0500
TZOFFSETTO:-0400
TZNAME:EDT
DTSTART:20250309T070000
END:DAYLIGHT
BEGIN:STANDARD
TZOFFSETFROM:-0400
TZOFFSETTO:-0500
TZNAME:EST
DTSTART:20251102T060000
END:STANDARD
END:VTIMEZONE
BEGIN:VEVENT
DTSTART;VALUE=DATE:20240711
DTEND;VALUE=DATE:20240715
DTSTAMP:20260420T115719
CREATED:20240613T141018Z
LAST-MODIFIED:20240613T141018Z
UID:10002283-1720656000-1721001599@threefold.org
SUMMARY:Opening the Future: Questions of Community
DESCRIPTION:A Gathering For Young Adults Ages 18-40\nJuly 11-14\, 2024\n\nJoin us for a weekend of exploring the spiritual striving of youth\, as well as intergenerational conversation\, biography work\, eurythmy\, speech\, biodynamics\, and painting.\n\n\n\n\nClick here for more information and to register.
URL:https://threefold.org/event/opening-the-future-questions-of-community/
LOCATION:Threefold Auditorium\, 260 Hungry Hollow Road\, Chestnut Ridge\, NY\, 10977\, United States
CATEGORIES:Conferences,Eurythmy Workshops, Courses, and Trainings
ATTACH;FMTTYPE=image/jpeg:https://threefold.org/wp-content/uploads/2024/06/Youthconfernce.jpg
ORGANIZER;CN="Threefold Educational Foundation":MAILTO:daniel@threefold.org
GEO:41.085666;-74.0635439
X-APPLE-STRUCTURED-LOCATION;VALUE=URI;X-ADDRESS=Threefold Auditorium 260 Hungry Hollow Road Chestnut Ridge NY 10977 United States;X-APPLE-RADIUS=500;X-TITLE=260 Hungry Hollow Road:geo:-74.0635439,41.085666
END:VEVENT
END:VCALENDAR