BEGIN:VCALENDAR
VERSION:2.0
PRODID:-//Threefold Educational Foundation | Chestnut Ridge NY - ECPv6.15.18//NONSGML v1.0//EN
CALSCALE:GREGORIAN
METHOD:PUBLISH
X-ORIGINAL-URL:https://threefold.org
X-WR-CALDESC:Events for Threefold Educational Foundation | Chestnut Ridge NY
REFRESH-INTERVAL;VALUE=DURATION:PT1H
X-Robots-Tag:noindex
X-PUBLISHED-TTL:PT1H
BEGIN:VTIMEZONE
TZID:America/New_York
BEGIN:DAYLIGHT
TZOFFSETFROM:-0500
TZOFFSETTO:-0400
TZNAME:EDT
DTSTART:20230312T070000
END:DAYLIGHT
BEGIN:STANDARD
TZOFFSETFROM:-0400
TZOFFSETTO:-0500
TZNAME:EST
DTSTART:20231105T060000
END:STANDARD
BEGIN:DAYLIGHT
TZOFFSETFROM:-0500
TZOFFSETTO:-0400
TZNAME:EDT
DTSTART:20240310T070000
END:DAYLIGHT
BEGIN:STANDARD
TZOFFSETFROM:-0400
TZOFFSETTO:-0500
TZNAME:EST
DTSTART:20241103T060000
END:STANDARD
BEGIN:DAYLIGHT
TZOFFSETFROM:-0500
TZOFFSETTO:-0400
TZNAME:EDT
DTSTART:20250309T070000
END:DAYLIGHT
BEGIN:STANDARD
TZOFFSETFROM:-0400
TZOFFSETTO:-0500
TZNAME:EST
DTSTART:20251102T060000
END:STANDARD
END:VTIMEZONE
BEGIN:VEVENT
DTSTART;VALUE=DATE:20240909
DTEND;VALUE=DATE:20241126
DTSTAMP:20260420T101140
CREATED:20240812T204447Z
LAST-MODIFIED:20240812T204447Z
UID:10002297-1725840000-1732579199@threefold.org
SUMMARY:Fall Youth Programming
DESCRIPTION:Begins September 9\, 2024 \nWeekly farm and garden classes for all ages! \nMore information here \nAdmission/fee: Starting at $360 for 12-week session \nFor more information contact hello@threefoldcommunityfarm.org or call: 845-352-5020 ext 120
URL:https://threefold.org/event/fall-youth-programming/
LOCATION:The Pfeiffer Center Garden\, United States
CATEGORIES:Biodynamic Farming & Gardening
ATTACH;FMTTYPE=image/jpeg:https://threefold.org/wp-content/uploads/2024/08/Farming-in-community.jpg
ORGANIZER;CN="Pfeiffer Center":MAILTO:hello@threefoldcommunityfarm.org
GEO:48.2182887;-109.4145802
END:VEVENT
BEGIN:VEVENT
DTSTART;VALUE=DATE:20240916
DTEND;VALUE=DATE:20241212
DTSTAMP:20260420T101140
CREATED:20240815T144458Z
LAST-MODIFIED:20240815T144458Z
UID:10002302-1726444800-1733961599@threefold.org
SUMMARY:Mystery Drama Study
DESCRIPTION:Mondays and Wednesdays 1:30-3:00pm\, September 16-December 11. \nBarbara Renold will lead a study of Rudolf Steiner’s Mystery Dramas\, beginning with The Portal of Initiation. Appropriate for beginners and those already familiar with the plays. \nTo register\, click here\, or write us at info@steinerspeecharts.org for more information.
URL:https://threefold.org/event/mystery-drama-study/
LOCATION:Red Barn Painting Studio\, 185A Hungry Hollow Road\, Chestnut Ridge\, NY\, 10977\, United States
CATEGORIES:Workshops for Adults
ATTACH;FMTTYPE=image/jpeg:https://threefold.org/wp-content/uploads/2024/08/Mystery-Drama-study.jpg
GEO:41.0896465;-74.0653185
X-APPLE-STRUCTURED-LOCATION;VALUE=URI;X-ADDRESS=Red Barn Painting Studio 185A Hungry Hollow Road Chestnut Ridge NY 10977 United States;X-APPLE-RADIUS=500;X-TITLE=185A Hungry Hollow Road:geo:-74.0653185,41.0896465
END:VEVENT
BEGIN:VEVENT
DTSTART;VALUE=DATE:20240926
DTEND;VALUE=DATE:20241206
DTSTAMP:20260420T101140
CREATED:20240822T135117Z
LAST-MODIFIED:20240919T181218Z
UID:10002310-1727308800-1733443199@threefold.org
SUMMARY:Infant Playgroup
DESCRIPTION: Thursdays 2:15-3:30  \n9/26\, 10/10\, 10/24\, 11/7\, 11/21\, 12/5\, Make-up 12/12. \nParents/Care-givers and babies meet for an REI inspired bi-weekly class. Tea and light snacks are served for parents. Together\, through our observation\, we’ll learn to trust and respect the wisdom of our babies. We’ll also learn simple songs and games to strengthen the bond between a care-giver and a baby. \nAges :  3 months to crawlers and beginner walkers \nCost: 6 Classes\, cost $270 \nFor more information please contact Heather Kono Hkono@gmws.org
URL:https://threefold.org/event/infant-playgroup/
LOCATION:Green Meadow Waldorf School\, 307 Hungry Hollow Road\, Chestnut Ridge\, NY\, 10977\, United States
CATEGORIES:Waldorf Education,Waldorf Parenting
ATTACH;FMTTYPE=image/png:https://threefold.org/wp-content/uploads/2024/08/Infant-class.png
ORGANIZER;CN="Green Meadow Waldorf School":MAILTO:admissions@gmws.org
GEO:41.0822971;-74.0613871
X-APPLE-STRUCTURED-LOCATION;VALUE=URI;X-ADDRESS=Green Meadow Waldorf School 307 Hungry Hollow Road Chestnut Ridge NY 10977 United States;X-APPLE-RADIUS=500;X-TITLE=307 Hungry Hollow Road:geo:-74.0613871,41.0822971
END:VEVENT
BEGIN:VEVENT
DTSTART;TZID=America/New_York:20241125T193000
DTEND;TZID=America/New_York:20241125T213000
DTSTAMP:20260420T101140
CREATED:20241031T150318Z
LAST-MODIFIED:20241031T150318Z
UID:10002349-1732563000-1732570200@threefold.org
SUMMARY:Romantic Era Music through Active Listening and Imagination; Presentations by Grigory Smirnov
DESCRIPTION:Two Mondays\, November 18 & November 25\,  7:30 pm \nA composer’s outlook on the mystery of music creation\, musical expression\, and perception; music as a higher form of communication and spiritual activity. The next two lectures of the ongoing series will focus on exploring some of the music of the Romantic era through active listening and imagination. \nGrigory Smirnov is a pianist and composer working with Eurythmy Spring Valley\, the school and performing ensemble. His compositions have been performed on major stages worldwide\, such as Carnegie Hall\, Merkin Concert Hall\, Tanglewood Festival\, Goetheanum\, and Moscow Philharmonic Hall. As a pianist\, he performs classical and improvisational music\, his own compositions\, and music for eurythmy. Originally from Siberia\, Russia\, he came to the United States in 2008. He holds music degrees from Novosibirsk Conservatory in Russia and The Juilliard School in New York City. Since 2019\, he has been working in the Threefold Community in Spring Valley\, NY. \nTickets: $15 (regular)\, $9 (students and seniors) Tickets will be on sale at the door. \nFor more information\, please email info@eurythmy.org
URL:https://threefold.org/event/romantic-era-music-through-active-listening-and-imagination-presentations-by-grigory-smirnov/2024-11-25/
LOCATION:School of Eurythmy\, 289 Hungry Hollow Rd\, Chestnut Ridge\, NY\, 10977\, United States
CATEGORIES:Eurythmy Performances,Eurythmy Workshops, Courses, and Trainings
ATTACH;FMTTYPE=image/jpeg:https://threefold.org/wp-content/uploads/2024/10/Grigory-Smirnov-IMG_6197.jpg
ORGANIZER;CN="Eurythmy Spring Valley":MAILTO:info@eurythmy.org
GEO:41.0828511;-74.0624621
X-APPLE-STRUCTURED-LOCATION;VALUE=URI;X-ADDRESS=School of Eurythmy 289 Hungry Hollow Rd Chestnut Ridge NY 10977 United States;X-APPLE-RADIUS=500;X-TITLE=289 Hungry Hollow Rd:geo:-74.0624621,41.0828511
END:VEVENT
END:VCALENDAR